BEGIN:VCALENDAR
VERSION:2.0
PRODID:-//London Business and Management School - ECPv4.2.5//NONSGML v1.0//EN
CALSCALE:GREGORIAN
METHOD:PUBLISH
X-WR-CALNAME:London Business and Management School
X-ORIGINAL-URL:https://londonbms.com
X-WR-CALDESC:Events for London Business and Management School
BEGIN:VEVENT
DTSTART;TZID=UTC+0:20160718T080000
DTEND;TZID=UTC+0:20160718T170000
DTSTAMP:20260423T165857
CREATED:20160228T094959
LAST-MODIFIED:20160228T094959
UID:92-1468828800-1468861200@londonbms.com
SUMMARY:Learning Solutions
DESCRIPTION:Humans are creative beings. This text will not appear in a consistent order. Your design looks awesome by the way. After Hours Programming created this application. Default text creates the illusion of real text.
URL:https://londonbms.com/event/learning-solutions/
LOCATION:130 ohua street. Miami\, Hi 96518 US Saint Augustine
CATEGORIES:Workshop
ATTACH;FMTTYPE=image/jpeg:https://londonbms.com/wp-content/uploads/2016/02/event2-1.jpg
ORGANIZER;CN="University":MAILTO:info@webnus.biz
END:VEVENT
END:VCALENDAR